BEGIN:VCALENDAR
VERSION:2.0
PRODID:-//H2I Group - ECPv6.15.20//NONSGML v1.0//EN
CALSCALE:GREGORIAN
METHOD:PUBLISH
X-WR-CALNAME:H2I Group
X-ORIGINAL-URL:https://h2igroup.com
X-WR-CALDESC:Events for H2I Group
REFRESH-INTERVAL;VALUE=DURATION:PT1H
X-Robots-Tag:noindex
X-PUBLISHED-TTL:PT1H
BEGIN:VTIMEZONE
TZID:UTC
BEGIN:STANDARD
TZOFFSETFROM:+0000
TZOFFSETTO:+0000
TZNAME:UTC
DTSTART:20250101T000000
END:STANDARD
END:VTIMEZONE
BEGIN:VEVENT
DTSTART;VALUE=DATE:20260424
DTEND;VALUE=DATE:20260425
DTSTAMP:20260424T105215
CREATED:20240325T041257Z
LAST-MODIFIED:20260423T202346Z
UID:5149-1776988800-1777075199@h2igroup.com
SUMMARY:MSADA Annual Conference
DESCRIPTION:The Maryland State Athletic Directors Association (MSADA) holds an annual conference to follow their mission to develop\, enhance\, and promote the educational values of interscholastic athletics. H2I Group attends this conference as an exhibitor each year\, showcasing our Athletic solutions. With various gym equipment\, bleachers\, lockers\, flooring\, and service options\, Athletic Directors can visit our booth for more information on current or future projects. Stop by our booth to learn more!\n\n\nSolutions: Athletic\, Flooring\, Lockers & Storage\, Seating & Furniture\, and Service
URL:https://h2igroup.com/event/msada-annual-conference/
LOCATION:Princess Royale Oceanfront Resort\, 9110 Coastal Hwy\, Ocen City\, MD\, 21842\, United States
ATTACH;FMTTYPE=image/png:https://h2igroup.com/wp-content/uploads/2024/04/Events-Image-Template-49-2.png
END:VEVENT
END:VCALENDAR