BEGIN:VCALENDAR
VERSION:2.0
PRODID:-//H2I Group - ECPv6.15.20//NONSGML v1.0//EN
CALSCALE:GREGORIAN
METHOD:PUBLISH
X-ORIGINAL-URL:https://h2igroup.com
X-WR-CALDESC:Events for H2I Group
REFRESH-INTERVAL;VALUE=DURATION:PT1H
X-Robots-Tag:noindex
X-PUBLISHED-TTL:PT1H
BEGIN:VTIMEZONE
TZID:UTC
BEGIN:STANDARD
TZOFFSETFROM:+0000
TZOFFSETTO:+0000
TZNAME:UTC
DTSTART:20250101T000000
END:STANDARD
END:VTIMEZONE
BEGIN:VEVENT
DTSTART;TZID=UTC:20260415T130000
DTEND;TZID=UTC:20260416T130000
DTSTAMP:20260422T172343
CREATED:20260414T191151Z
LAST-MODIFIED:20260414T191151Z
UID:7193-1776258000-1776344400@h2igroup.com
SUMMARY:OSFMA Conference
DESCRIPTION:The Oregon School Facilities Management Association (OSFMA) was created to serve school facility staff in their roles in public and private school districts. Their goal is to provide networking and education opportunities in planning\, safety\, and operations of school facilities in Oregon. \nEvery year\, OSFMA hosts their annual conference\, with a focus this year on building excellence and inspiring leadership. Many operations staff and facilities come together with the intention to follow the organization’s goal. H2I Group is a part of the vendor showcase\, as we have a multitude of Education Solutions that can benefit school facilities. With the ability to outfit gymnasiums\, classrooms\, hallways\, lunchrooms\, and more\, H2I Group can improve education spaces for students. \nBooth: 415 \nSolutions: Athletic\, Laboratory\, Seating & Furniture\, Lockers & Storage\, Service
URL:https://h2igroup.com/event/osfma-conference/
LOCATION:Linn County Fairgrounds Conference Center\, 3700 Knox Butte Rd E\, Albany\, OR\, 97322\, United States
ATTACH;FMTTYPE=image/png:https://h2igroup.com/wp-content/uploads/2026/04/Events-Image-Template-77.png
END:VEVENT
BEGIN:VEVENT
DTSTART;TZID=UTC:20260421T200000
DTEND;TZID=UTC:20260422T163000
DTSTAMP:20260422T172343
CREATED:20240408T193019Z
LAST-MODIFIED:20260420T195447Z
UID:5046-1776801600-1776875400@h2igroup.com
SUMMARY:MRPA Annual Conference
DESCRIPTION:The Maryland Recreation and Parks Association (MRPA) has a goal to unite recreation and parks professionals and citizens to advocate to advance park\, recreation\, and environmental conservation efforts through networking\, development\, training\, and advocacy to enhance the equality of life for those in Maryland. Their annual conference follows this mission\, bringing together professionals and experts to network\, learn\, and discuss everything in the recreation and parks industry. \nH2I Group has a variety of athletic equipment that is beneficial to Recreation and Parks\, including basketball equipment\, volleyball equipment\, pickleball equipment and flooring\, lockers and storage options\, and much more! With expertise in outdoor and indoor athletics\, we can assist in any future or current projects. Our team members can answer any questions regarding our scope of products and capabilities. \nBooth: 22 \nSolutions: Athletic\, Flooring\, Lockers & Storage\, Seating & Furniture\, Service
URL:https://h2igroup.com/event/mrpa/
LOCATION:Hyatt Regency Chesapeake Bay\, 100 Heron Boulevard\, Cambridge\, MD\, 21613\, United States
ATTACH;FMTTYPE=image/png:https://h2igroup.com/wp-content/uploads/2024/04/Events-Image-Template-46.png
END:VEVENT
END:VCALENDAR